BEGIN:VCALENDAR
VERSION:2.0
PRODID:-//Igreja Viva Adoração - ECPv6.11.2.1//NONSGML v1.0//EN
CALSCALE:GREGORIAN
METHOD:PUBLISH
X-ORIGINAL-URL:https://vivadoracao.com.br
X-WR-CALDESC:Eventos para Igreja Viva Adoração
REFRESH-INTERVAL;VALUE=DURATION:PT1H
X-Robots-Tag:noindex
X-PUBLISHED-TTL:PT1H
BEGIN:VTIMEZONE
TZID:America/Sao_Paulo
BEGIN:STANDARD
TZOFFSETFROM:-0300
TZOFFSETTO:-0300
TZNAME:-03
DTSTART:20260101T000000
END:STANDARD
END:VTIMEZONE
BEGIN:VEVENT
DTSTART;TZID=America/Sao_Paulo:20260206T210000
DTEND;TZID=America/Sao_Paulo:20260208T140000
DTSTAMP:20260425T122012
CREATED:20260108T143053Z
LAST-MODIFIED:20260116T193536Z
UID:6846-1770411600-1770559200@vivadoracao.com.br
SUMMARY:Encontro com Deus 2026
DESCRIPTION:O Encontro com Deus é um tempo separado para silenciar a alma\, restaurar o coração e viver uma experiência real com a presença do Senhor. Mais do que um evento\, é um chamado para quem deseja se reconectar com Deus\, ser curado\, renovado e transformado pelo Seu amor. \nDurante esse encontro\, teremos momentos de louvor\, palavra\, oração e entrega\, onde cada participante será convidado a deixar o peso\, as dores e as distrações\, e permitir que Deus fale de forma pessoal e profunda. É um tempo de recomeço\, de alinhamento espiritual e de intimidade com Aquele que conhece cada detalhe da nossa história. \nVenha com o coração aberto e a expectativa de viver algo novo. Deus continua chamando\, restaurando e transformando vidas — e esse encontro pode marcar um novo capítulo na sua caminhada com Ele. \n\n\nQuero me inscrever
URL:https://vivadoracao.com.br/evento/encontro-com-deus-2026/
LOCATION:Chácara Videira – Franco da Rocha\, Estr. Miguel João Ortiz\, 5700\, Franco da Rocha - SP\, São Paulo\, 07863-000\, Brazil
ORGANIZER;CN="Igreja Vivadora%C3%A7%C3%A3o":MAILTO:contato@vivadoracao.com.br
END:VEVENT
BEGIN:VEVENT
DTSTART;TZID=America/Sao_Paulo:20260213T200000
DTEND;TZID=America/Sao_Paulo:20260213T220000
DTSTAMP:20260425T122012
CREATED:20260211T114442Z
LAST-MODIFIED:20260211T120340Z
UID:6897-1771012800-1771020000@vivadoracao.com.br
SUMMARY:Rede de Mulheres
DESCRIPTION:Rede de Mulheres – Mães que Oram pelos seus Filhos \nA Rede de Mulheres convida todas as mães para um encontro especial com o tema “Mães que Oram pelos seus Filhos”. Será um momento de comunhão\, reflexão e fortalecimento espiritual\, onde aprenderemos sobre o poder da oração na vida de nossos filhos e o papel da mãe como intercessora dentro do lar. \nEm meio aos desafios do dia a dia\, sabemos que a oração é a nossa maior arma e refúgio. Neste encontro\, teremos uma palavra edificante ministrada pela Apa. Rosi Ferreira\, além de momentos de louvor e oração\, em um ambiente acolhedor para compartilhar experiências e fortalecer a fé. \nVenha participar conosco e renovar sua esperança\, confiança e propósito como mãe\, colocando seus filhos nas mãos de Deus. Você é nossa convidada especial! \nLEMBRETE: VENHA COM ROUPAS AZUIS  E BRANCAS !!!
URL:https://vivadoracao.com.br/evento/maes-que-oram-pelos-seus-filhos/
LOCATION:Igreja Vivadoração\, Rua Ricardo Dalton\, 399\, São Paulo\, SP\, 05271-120\, Brazil
ORGANIZER;CN="Igreja Vivadora%C3%A7%C3%A3o":MAILTO:contato@vivadoracao.com.br
END:VEVENT
BEGIN:VEVENT
DTSTART;TZID=America/Sao_Paulo:20260221T200000
DTEND;TZID=America/Sao_Paulo:20260221T220000
DTSTAMP:20260425T122012
CREATED:20260218T002304Z
LAST-MODIFIED:20260218T002304Z
UID:6976-1771704000-1771711200@vivadoracao.com.br
SUMMARY:Rede de Homens
DESCRIPTION:Rede de Homens – O Homem e a Mente Blindada por Deus \nA Rede de Homens é um encontro especial dedicado ao fortalecimento espiritual e emocional dos homens\, com o propósito de despertar consciência\, maturidade e firmeza na caminhada cristã. \nCom o tema “O Homem e a Mente Blindada por Deus”\, este evento trará reflexões profundas sobre como desenvolver uma mente fortalecida pela fé\, capaz de resistir às pressões\, desafios e batalhas do dia a dia\, permanecendo alinhada aos princípios de Deus. \nNesta edição\, teremos a ministração do Pastor Leonardo Godoy\, trazendo uma palavra prática\, edificante e transformadora para homens que desejam viver com equilíbrio\, propósito e direção espiritual — no lar\, no trabalho\, na igreja e na sociedade. \nData: 21 de fevereiro de 2026Horário: 20h \nParticipe da Rede de Homens e fortaleça sua mente para viver uma vida firmada em Deus.
URL:https://vivadoracao.com.br/evento/rede-de-homens/
LOCATION:Igreja Vivadoração\, Rua Ricardo Dalton\, 399\, São Paulo\, SP\, 05271-120\, Brazil
ORGANIZER;CN="Igreja Vivadora%C3%A7%C3%A3o":MAILTO:contato@vivadoracao.com.br
END:VEVENT
BEGIN:VEVENT
DTSTART;TZID=America/Sao_Paulo:20260227T200000
DTEND;TZID=America/Sao_Paulo:20260228T210000
DTSTAMP:20260425T122012
CREATED:20260211T151753Z
LAST-MODIFIED:20260211T153950Z
UID:6912-1772222400-1772312400@vivadoracao.com.br
SUMMARY:Encontro de gerações
DESCRIPTION:O Encontro de Gerações será um momento especial de comunhão\, alinhamento e fortalecimento espiritual para toda a liderança e membros da igreja. Um tempo preparado para promover unidade\, crescimento e renovação da visão\, reunindo diferentes gerações com o mesmo propósito: servir a Deus com excelência e amor. \nDurante o encontro\, teremos momentos de louvor\, palavra e comunhão\, buscando direção e fortalecimento para os desafios do ministério e da vida cristã. Será uma oportunidade para compartilhar experiências\, aprender uns com os outros e renovar o compromisso com a obra de Deus. \nProgramação: \n. 27/02: das 20h às 22h\n. 28/02: das 9h às 21h \nParticipe conosco desse tempo especial de edificação\, unidade e propósito. Juntos\, como uma só família\, continuaremos avançando no chamado que Deus tem para a nossa igreja.
URL:https://vivadoracao.com.br/evento/encontro-de-geracoes/
LOCATION:Igreja Vivadoração\, Rua Ricardo Dalton\, 399\, São Paulo\, SP\, 05271-120\, Brazil
ORGANIZER;CN="Igreja Vivadora%C3%A7%C3%A3o":MAILTO:contato@vivadoracao.com.br
END:VEVENT
BEGIN:VEVENT
DTSTART;TZID=America/Sao_Paulo:20260301T080000
DTEND;TZID=America/Sao_Paulo:20260301T090000
DTSTAMP:20260425T122012
CREATED:20260213T161126Z
LAST-MODIFIED:20260213T192513Z
UID:6948-1772352000-1772355600@vivadoracao.com.br
SUMMARY:Equipe de Dança
DESCRIPTION:A Equipe de Dança Viva Adoração convida você para a Aula Inaugural de um novo tempo de expressão\, entrega e adoração através da dança. Será um momento especial para todos que desejam servir a Deus com seus dons\, aprender novos movimentos e crescer em comunhão. \nSe você ama dançar ou deseja iniciar nessa área do ministério\, essa é a oportunidade perfeita para fazer parte de algo maior\, desenvolvendo talento\, disciplina e intimidade com Deus. \nData: 01 de março (domingo)Horário: às 08hLocal: Igreja Viva Adoração – Rua Ricardo Dalton\, nº 399 \nVenha participar e fazer parte dessa equipe que adora ao Senhor com todo o coração! \n\n\nQuero me inscrever
URL:https://vivadoracao.com.br/evento/equipe-de-danca/
LOCATION:Igreja Vivadoração\, Rua Ricardo Dalton\, 399\, São Paulo\, SP\, 05271-120\, Brazil
ORGANIZER;CN="Igreja Vivadora%C3%A7%C3%A3o":MAILTO:contato@vivadoracao.com.br
END:VEVENT
BEGIN:VEVENT
DTSTART;TZID=America/Sao_Paulo:20260307T200000
DTEND;TZID=America/Sao_Paulo:20260307T220000
DTSTAMP:20260425T122012
CREATED:20260227T203134Z
LAST-MODIFIED:20260227T203728Z
UID:6988-1772913600-1772920800@vivadoracao.com.br
SUMMARY:Rede de Mulheres
DESCRIPTION:Comemoração do Dia Internacional da Mulher\nA Rede de Mulheres da nossa igreja convida você para uma noite especial de celebração\, fé e comunhão em comemoração ao Dia Internacional da Mulher. \nSerá um momento preparado com muito carinho\, dedicado a fortalecer\, inspirar e edificar mulheres por meio da Palavra de Deus\, louvor e comunhão. \nProgramação especial:\nPreletora: Ana CavalaroLouvor: Talyta CarvalhoOfertas: Ap. Elaine \nData: Sábado – 07/03\nHorário: 20h\nLocal: Espaço Lírio – Rua Domenico Aspari\, nº 20 \nVenha participar dessa noite única\, traga suas amigas e familiares\, e celebre conosco o valor\, a força e o propósito que Deus colocou em cada mulher. \nEsperamos por você! \n\n\nQuero me inscrever
URL:https://vivadoracao.com.br/evento/rede-de-mulheres/
LOCATION:Espaço Lírio\, Rua Domenico Aspari\, 20\, São Paulo\, SP\, 05269010\, Brazil
ORGANIZER;CN="Igreja Vivadora%C3%A7%C3%A3o":MAILTO:contato@vivadoracao.com.br
END:VEVENT
BEGIN:VEVENT
DTSTART;TZID=America/Sao_Paulo:20260314T160000
DTEND;TZID=America/Sao_Paulo:20260314T190000
DTSTAMP:20260425T122012
CREATED:20260309T194523Z
LAST-MODIFIED:20260309T194523Z
UID:7006-1773504000-1773514800@vivadoracao.com.br
SUMMARY:Viva Kids – Com as Famílias
DESCRIPTION:No dia 14 de março\, às 16h\, teremos um culto especial do Viva Kids\, preparado com muito carinho para as crianças e para toda a família. \nSerá um momento de aprendizado\, diversão e edificação espiritual\, onde as crianças serão ensinadas de forma dinâmica e acessível sobre valores importantes para a vida cristã. \nO tema deste encontro será “Criança informada\, criança mais protegida”\, trazendo orientações importantes de forma leve e educativa para as crianças e também para os pais. \nA ministração será conduzida pela preletora Margarida Ferraz\, que compartilhará uma mensagem especial voltada para o cuidado\, proteção e desenvolvimento saudável das crianças à luz da Palavra de Deus. \nConvidamos todas as famílias para participarem desse momento especial\, onde aprenderemos juntos e fortaleceremos nossos laços em um ambiente de fé\, amor e comunhão. \nData: 14/03Horário: 16h00Local: Rua Ricardo Dalton\, nº 399 – Jardim Santa Fé \nVenha com sua família e participe!
URL:https://vivadoracao.com.br/evento/viva-kids-com-as-familias/
LOCATION:Igreja Vivadoração\, Rua Ricardo Dalton\, 399\, São Paulo\, SP\, 05271-120\, Brazil
ORGANIZER;CN="Igreja Vivadora%C3%A7%C3%A3o":MAILTO:contato@vivadoracao.com.br
END:VEVENT
BEGIN:VEVENT
DTSTART;TZID=America/Sao_Paulo:20260316T193000
DTEND;TZID=America/Sao_Paulo:20260316T193000
DTSTAMP:20260425T122012
CREATED:20260316T162028Z
LAST-MODIFIED:20260316T162028Z
UID:7013-1773689400-1773689400@vivadoracao.com.br
SUMMARY:Reunião de Oração
DESCRIPTION:Todas as segundas-feiras às 19h30\, a Igreja Viva Adoração convida você e sua família para participar da Reunião de Oração\, um momento especial de busca pela presença de Deus. \nSerá um tempo dedicado à oração\, clamor e adoração\, onde nos reunimos em unidade para apresentar nossas vidas\, famílias e necessidades diante do Senhor\, fortalecendo nossa fé e comunhão. \nVenha viver esse momento de intimidade com Deus e experimentar o poder da oração. \nLocal: Rua Ricardo Dalton\, nº 399 – Jardim Santa Fé\nHorário: 19h30\nDia: Todas as segundas-feiras \nEsperamos por você!
URL:https://vivadoracao.com.br/evento/reuniao-de-oracao/
LOCATION:Igreja Vivadoração\, Rua Ricardo Dalton\, 399\, São Paulo\, SP\, 05271-120\, Brazil
ORGANIZER;CN="Igreja Vivadora%C3%A7%C3%A3o":MAILTO:contato@vivadoracao.com.br
END:VEVENT
BEGIN:VEVENT
DTSTART;TZID=America/Sao_Paulo:20260330T200000
DTEND;TZID=America/Sao_Paulo:20260330T220000
DTSTAMP:20260425T122012
CREATED:20260329T212148Z
LAST-MODIFIED:20260329T215402Z
UID:7022-1774900800-1774908000@vivadoracao.com.br
SUMMARY:House Grow
DESCRIPTION:House Grow – Encontro de Adoração\, Comunhão e Oração \nPrepare-se para uma noite especial na presença de Deus! No dia 30 de março (segunda-feira)\, às 20h\, acontecerá o House Grow\, um encontro voltado para jovens\, adolescentes e juniores\, com momentos intensos de adoração\, comunhão e oração. \nO evento contará com a participação de Cíndia\, Muriel Carvalho e Jerry\, trazendo uma palavra inspiradora e um ambiente de transformação espiritual. \nLocal: Espaço LírioEndereço: Rua Domenico Aspari\, 20 – Jardim Britânia\, SP \nVenha viver essa experiência única e traga seus amigos!
URL:https://vivadoracao.com.br/evento/house-grow/
LOCATION:Espaço Lírio\, Rua Domenico Aspari\, 20\, São Paulo\, SP\, 05269010\, Brazil
ORGANIZER;CN="Igreja Vivadora%C3%A7%C3%A3o":MAILTO:contato@vivadoracao.com.br
END:VEVENT
END:VCALENDAR