BEGIN:VCALENDAR
VERSION:2.0
PRODID:-//Igreja Viva Adoração - ECPv6.11.2.1//NONSGML v1.0//EN
CALSCALE:GREGORIAN
METHOD:PUBLISH
X-ORIGINAL-URL:https://vivadoracao.com.br
X-WR-CALDESC:Eventos para Igreja Viva Adoração
REFRESH-INTERVAL;VALUE=DURATION:PT1H
X-Robots-Tag:noindex
X-PUBLISHED-TTL:PT1H
BEGIN:VTIMEZONE
TZID:America/Sao_Paulo
BEGIN:STANDARD
TZOFFSETFROM:-0300
TZOFFSETTO:-0300
TZNAME:-03
DTSTART:20250101T000000
END:STANDARD
END:VTIMEZONE
BEGIN:VEVENT
DTSTART;VALUE=DATE:20250524
DTEND;VALUE=DATE:20250525
DTSTAMP:20260422T223906
CREATED:20250502T115936Z
LAST-MODIFIED:20250502T120023Z
UID:6282-1748044800-1748131199@vivadoracao.com.br
SUMMARY:Casamento - Cleber e Stella
DESCRIPTION:🎉 Casamento do Cleber e Stella 💍✨ \n“Grandes coisas fez o Senhor por nós\, e por isso estamos alegres.” (Salmos 126:3) \nShalom discípulo(a) do avivamento! \nCom imensa gratidão a Deus\, convidamos você para testemunhar e celebrar conosco a concretização de um lindo propósito: a união de Cleber & Stella diante do Senhor! \nSerá um dia inesquecível\, marcado pelo amor\, pela fé e pela alegria de compartilharmos esse momento especial ao lado de familiares e amigos. \n📅 Data: 24 de maio de 2025\n📍 Local: À definir\n⏰ Horário: À definir \nCorra\, porque as vagas são limitadas! \nQue essa aliança\, abençoada por Deus\, seja um testemunho vivo do Seu amor! Contamos com sua presença para celebrar essa nova etapa na vida do Cleber e da Stella. 💕🙏
URL:https://vivadoracao.com.br/evento/casamento-cleber-e-stella/
LOCATION:Igreja Vivadoração\, Rua Ricardo Dalton\, 399\, São Paulo\, SP\, 05271-120\, Brazil
CATEGORIES:Casais
ATTACH;FMTTYPE=image/png:https://vivadoracao.com.br/wp-content/uploads/2025/04/imagem-destacada-quem-somos.png
ORGANIZER;CN="Igreja Vivadora%C3%A7%C3%A3o":MAILTO:contato@vivadoracao.com.br
END:VEVENT
END:VCALENDAR