BEGIN:VCALENDAR
VERSION:2.0
PRODID:-//Igreja Viva Adoração - ECPv6.11.2.1//NONSGML v1.0//EN
CALSCALE:GREGORIAN
METHOD:PUBLISH
X-WR-CALNAME:Igreja Viva Adoração
X-ORIGINAL-URL:https://vivadoracao.com.br
X-WR-CALDESC:Eventos para Igreja Viva Adoração
REFRESH-INTERVAL;VALUE=DURATION:PT1H
X-Robots-Tag:noindex
X-PUBLISHED-TTL:PT1H
BEGIN:VTIMEZONE
TZID:America/Sao_Paulo
BEGIN:STANDARD
TZOFFSETFROM:-0300
TZOFFSETTO:-0300
TZNAME:-03
DTSTART:20250101T000000
END:STANDARD
END:VTIMEZONE
BEGIN:VEVENT
DTSTART;TZID=America/Sao_Paulo:20250612T190000
DTEND;TZID=America/Sao_Paulo:20250612T230000
DTSTAMP:20260422T195211
CREATED:20250416T175505Z
LAST-MODIFIED:20250502T115501Z
UID:5548-1749754800-1749769200@vivadoracao.com.br
SUMMARY:Dia dos Namorados 2025
DESCRIPTION:? Encontro de Casais – 12 de Junho de 2025 ? \n“Portanto\, o que Deus uniu\, ninguém o separe.” (Marcos 10:9) \nShalom casal do avivamento! \nCasamento é um presente de Deus\, e fortalecer essa aliança é essencial! Convidamos você e seu cônjuge para uma noite especial de comunhão\, amor e renovação no Dia dos Namorados\, que acontecerá no dia 12 de Junho de 2025. \n✨ O que preparamos para vocês?\n? Reflexão bíblica sobre o casamento segundo o coração de Deus\n? Dinâmicas interativas para fortalecer a relação\n? Louvor e momentos de adoração a dois\n?️ Jantar especial em um ambiente acolhedor \n? Local: Espaço Lírio\n⏰ Horário: 19h\n? Valor da inscrição: R$100\,00 por pessoa \nCorra\, porque as vagas são limitadas! \nInvista no seu casamento e viva essa experiência edificante! Inscreva-se e venha desfrutar dessa noite preparada com carinho para fortalecer seu relacionamento sob a direção de Deus. ?✨
URL:https://vivadoracao.com.br/evento/dia-dos-namorados-2025/
LOCATION:Espaço Lírio\, Rua Domenico Aspari\, 20\, São Paulo\, SP\, 05269010\, Brazil
CATEGORIES:Casais
ATTACH;FMTTYPE=image/png:https://vivadoracao.com.br/wp-content/uploads/2025/04/banner-dia-dos-namorados.png
ORGANIZER;CN="Igreja Vivadora%C3%A7%C3%A3o":MAILTO:contato@vivadoracao.com.br
END:VEVENT
END:VCALENDAR