BEGIN:VCALENDAR
VERSION:2.0
PRODID:-//Igreja Viva Adoração - ECPv6.11.2.1//NONSGML v1.0//EN
CALSCALE:GREGORIAN
METHOD:PUBLISH
X-WR-CALNAME:Igreja Viva Adoração
X-ORIGINAL-URL:https://vivadoracao.com.br
X-WR-CALDESC:Eventos para Igreja Viva Adoração
REFRESH-INTERVAL;VALUE=DURATION:PT1H
X-Robots-Tag:noindex
X-PUBLISHED-TTL:PT1H
BEGIN:VTIMEZONE
TZID:America/Sao_Paulo
BEGIN:STANDARD
TZOFFSETFROM:-0300
TZOFFSETTO:-0300
TZNAME:-03
DTSTART:20260101T000000
END:STANDARD
END:VTIMEZONE
BEGIN:VEVENT
DTSTART;TZID=America/Sao_Paulo:20260206T210000
DTEND;TZID=America/Sao_Paulo:20260208T140000
DTSTAMP:20260425T080917
CREATED:20260108T143053Z
LAST-MODIFIED:20260116T193536Z
UID:6846-1770411600-1770559200@vivadoracao.com.br
SUMMARY:Encontro com Deus 2026
DESCRIPTION:O Encontro com Deus é um tempo separado para silenciar a alma\, restaurar o coração e viver uma experiência real com a presença do Senhor. Mais do que um evento\, é um chamado para quem deseja se reconectar com Deus\, ser curado\, renovado e transformado pelo Seu amor. \nDurante esse encontro\, teremos momentos de louvor\, palavra\, oração e entrega\, onde cada participante será convidado a deixar o peso\, as dores e as distrações\, e permitir que Deus fale de forma pessoal e profunda. É um tempo de recomeço\, de alinhamento espiritual e de intimidade com Aquele que conhece cada detalhe da nossa história. \nVenha com o coração aberto e a expectativa de viver algo novo. Deus continua chamando\, restaurando e transformando vidas — e esse encontro pode marcar um novo capítulo na sua caminhada com Ele. \n\n\nQuero me inscrever
URL:https://vivadoracao.com.br/evento/encontro-com-deus-2026/
LOCATION:Chácara Videira – Franco da Rocha\, Estr. Miguel João Ortiz\, 5700\, Franco da Rocha - SP\, São Paulo\, 07863-000\, Brazil
ORGANIZER;CN="Igreja Vivadora%C3%A7%C3%A3o":MAILTO:contato@vivadoracao.com.br
END:VEVENT
END:VCALENDAR