BEGIN:VCALENDAR
VERSION:2.0
PRODID:-//Igreja Viva Adoração - ECPv6.11.2.1//NONSGML v1.0//EN
CALSCALE:GREGORIAN
METHOD:PUBLISH
X-WR-CALNAME:Igreja Viva Adoração
X-ORIGINAL-URL:https://vivadoracao.com.br
X-WR-CALDESC:Eventos para Igreja Viva Adoração
REFRESH-INTERVAL;VALUE=DURATION:PT1H
X-Robots-Tag:noindex
X-PUBLISHED-TTL:PT1H
BEGIN:VTIMEZONE
TZID:America/Sao_Paulo
BEGIN:STANDARD
TZOFFSETFROM:-0300
TZOFFSETTO:-0300
TZNAME:-03
DTSTART:20250101T000000
END:STANDARD
END:VTIMEZONE
BEGIN:VEVENT
DTSTART;TZID=America/Sao_Paulo:20250501T120000
DTEND;TZID=America/Sao_Paulo:20250501T170000
DTSTAMP:20260425T212256
CREATED:20250416T180957Z
LAST-MODIFIED:20250502T175804Z
UID:5552-1746100800-1746118800@vivadoracao.com.br
SUMMARY:Casais no Parque Anhanguera
DESCRIPTION:? Evento de Casais no Parque Anhanguera ?✨\n\n“Assim\, eles já não são dois\, mas sim uma só carne. Portanto\, o que Deus uniu\, ninguém o separe.” (Mateus 19:6) \nShalom casal do avivamento!  \nQue tal um dia especial para fortalecer os laços do casamento em um ambiente leve\, descontraído e cheio da presença de Deus? Convidamos você e seu cônjuge para o Evento de Casais no Parque Anhanguera\, um momento de comunhão\, alegria e cuidado com o templo do Espírito Santo: nosso corpo! \n?‍♂️ O que preparamos para vocês?\n? Camisas personalizadas para cada casal\n?? Aulões animados de ginástica e aeróbica musical com professores especializados\n? Música\, descontração e comunhão ao ar livre\n? Churrasco coletivo para encerrar esse dia abençoado \n? Data: 01 de maio de 2025\n? Local: Parque Anhanguera\n⏰ Horário: 12h\n?️ Entrada: Um “Kit Crente” (1kg de carne + refrigerante ou suco) + R$10\,00 \nCorra\, porque as vagas são limitadas! \nVenham celebrar o amor de forma saudável e divertida\, fortalecendo o casamento e cuidando do corpo\, que é templo do Espírito Santo! Inscrevam-se e participem desse dia incrível! ??
URL:https://vivadoracao.com.br/evento/casais-no-parque-anhanguera/
LOCATION:Parque Anhanguera\, Avenida Fortunata Tadiello Natucci\, 1000\, São Paulo\, SP\, 05181-070\, Brazil
CATEGORIES:Família
ATTACH;FMTTYPE=image/png:https://vivadoracao.com.br/wp-content/uploads/2025/04/banner-casais-no-parque-anhanguera.png
ORGANIZER;CN="Igreja Vivadora%C3%A7%C3%A3o":MAILTO:contato@vivadoracao.com.br
END:VEVENT
END:VCALENDAR